BEGIN:VCALENDAR
VERSION:2.0
PRODID:-//ChamberMaster//Event Calendar 2.0//EN
METHOD:PUBLISH
X-PUBLISHED-TTL:P3D
REFRESH-INTERVAL:P3D
CALSCALE:GREGORIAN
BEGIN:VEVENT
DTSTART;VALUE=DATE:20080327
DTEND;VALUE=DATE:20080331
TRANSP:TRANSPARENT
X-MICROSOFT-CDO-ALLDAYEVENT:TRUE
SUMMARY:Tomball German Heritage Festival
DESCRIPTION:Tomball German Heritage Festival\nMarch 27 - 30\nThurs - March 27 - Carnival starts\nFriday - March 28 - 6pm - 11 pm\nSaturday March 29 10 am - 10 pm\nSunday March 30 - 10 am - 6 pm
X-ALT-DESC;FMTTYPE=text/html:Tomball German Heritage Festival<br />March 27 - 30<br />Thurs - March 27 - Carnival starts<br />Friday - March 28 - 6pm - 11 pm<br />Saturday March 29 10 am - 10 pm<br />Sunday March 30 - 10 am - 6 pm
LOCATION:
UID:e.155.2227
SEQUENCE:3
DTSTAMP:20260421T183123Z
URL:https://business.tomballchamber.org/events/details/tomball-german-heritage-festival-03-27-2008-2227
END:VEVENT

END:VCALENDAR
