BEGIN:VCALENDAR
VERSION:2.0
PRODID:-//ChamberMaster//Event Calendar 2.0//EN
METHOD:PUBLISH
X-PUBLISHED-TTL:P3D
REFRESH-INTERVAL:P3D
CALSCALE:GREGORIAN
BEGIN:VEVENT
DTSTART;VALUE=DATE:20071105
DTEND;VALUE=DATE:20071106
TRANSP:TRANSPARENT
X-MICROSOFT-CDO-ALLDAYEVENT:TRUE
SUMMARY:Tomball Garden Club Visits Kleb Woods
DESCRIPTION:Fred Collins will give a program on hummingbirds
X-ALT-DESC;FMTTYPE=text/html:Fred Collins will give a program on hummingbirds
LOCATION:Kleb Woods on Mueschke rd.
UID:e.155.2354
SEQUENCE:3
DTSTAMP:20260421T233839Z
URL:https://business.tomballchamber.org/events/details/tomball-garden-club-visits-kleb-woods-11-05-2007-2354
END:VEVENT

END:VCALENDAR
