BEGIN:VCALENDAR
VERSION:2.0
PRODID:-//ChamberMaster//Event Calendar 2.0//EN
METHOD:PUBLISH
X-PUBLISHED-TTL:P3D
REFRESH-INTERVAL:P3D
CALSCALE:GREGORIAN
BEGIN:VEVENT
DTSTART;VALUE=DATE:20071022
DTEND;VALUE=DATE:20071023
TRANSP:TRANSPARENT
X-MICROSOFT-CDO-ALLDAYEVENT:TRUE
SUMMARY:Tomball Garden club trip
DESCRIPTION:The Tomball Garden club will be taking a field trip to the Enchanted Gardens and the Enchanted Forest on October 22nd. We will meet at the museum on Pine st. at 8:30 a.m. where the harris county bus will drive us to our location We will lunch at Sandy Mcghees before returning to the museum.
X-ALT-DESC;FMTTYPE=text/html:The Tomball Garden club will be taking a field trip to the Enchanted Gardens and the Enchanted Forest on October 22nd. We will meet at the museum on Pine st. at 8:30 a.m. where the harris county bus will drive us to our location We will lunch at Sandy Mcghees before returning to the museum.
LOCATION:The Enchanted Garden and Enchanted Forrest
UID:e.155.2350
SEQUENCE:3
DTSTAMP:20260422T011555Z
URL:https://business.tomballchamber.org/events/details/tomball-garden-club-trip-10-22-2007-2350
END:VEVENT

END:VCALENDAR
