BEGIN:VCALENDAR
VERSION:2.0
PRODID:-//ChamberMaster//Event Calendar 2.0//EN
METHOD:PUBLISH
X-PUBLISHED-TTL:P3D
REFRESH-INTERVAL:P3D
CALSCALE:GREGORIAN
BEGIN:VEVENT
DTSTART:20080405T140000Z
DTEND:20080405T190000Z
X-MICROSOFT-CDO-ALLDAYEVENT:FALSE
SUMMARY:Tomball Garden Club Plant Sale
DESCRIPTION:The Tomball Garden Club will hold its annual plant sale to raise funds for various community projects. A nice selection of perennials\, herbs\, annuals\, and garden art will be available
X-ALT-DESC;FMTTYPE=text/html:The Tomball Garden Club will hold its annual plant sale to raise funds for various community projects. A nice selection of perennials\, herbs\, annuals\, and garden art will be available
LOCATION:510 N. Pine St.\, Tomball\, TX
UID:e.155.2461
SEQUENCE:3
DTSTAMP:20260421T152417Z
URL:https://business.tomballchamber.org/events/details/tomball-garden-club-plant-sale-04-05-2008-2461
END:VEVENT

END:VCALENDAR
