BEGIN:VCALENDAR
VERSION:2.0
PRODID:-//ChamberMaster//Event Calendar 2.0//EN
METHOD:PUBLISH
X-PUBLISHED-TTL:P3D
REFRESH-INTERVAL:P3D
CALSCALE:GREGORIAN
BEGIN:VEVENT
DTSTART:20071001T180000Z
DTEND:20071001T200000Z
X-MICROSOFT-CDO-ALLDAYEVENT:FALSE
SUMMARY:Tomball Garden Club Meeting
DESCRIPTION:The Tomball garden club will be having thier second meeting of the year at the Arbor Gate. The program will be on tabletop edible plants. Bring a container.
X-ALT-DESC;FMTTYPE=text/html:The Tomball garden club will be having thier second meeting of the year at the Arbor Gate. The program will be on tabletop edible plants. Bring a container.
LOCATION:The Arbor Gate on F.M. 2920 in Tomball
UID:e.155.2335
SEQUENCE:3
DTSTAMP:20260422T011641Z
URL:https://business.tomballchamber.org/events/details/tomball-garden-club-meeting-10-01-2007-2335
END:VEVENT

END:VCALENDAR
