BEGIN:VCALENDAR
VERSION:2.0
PRODID:-//ChamberMaster//Event Calendar 2.0//EN
METHOD:PUBLISH
X-PUBLISHED-TTL:P3D
REFRESH-INTERVAL:P3D
CALSCALE:GREGORIAN
BEGIN:VEVENT
DTSTART;VALUE=DATE:20080515
DTEND;VALUE=DATE:20080516
TRANSP:TRANSPARENT
X-MICROSOFT-CDO-ALLDAYEVENT:TRUE
SUMMARY:TOMBALL GARDEN CLUB FIELD TRIP
DESCRIPTION:The garden club will take a trip to the Beaumont Botanical gardens and have lunch at Cheddars
X-ALT-DESC;FMTTYPE=text/html:The garden club will take a trip to the Beaumont Botanical gardens and have lunch at Cheddars
LOCATION:Call for meeting locations
UID:e.155.2413
SEQUENCE:3
DTSTAMP:20260421T130813Z
URL:https://business.tomballchamber.org/events/details/tomball-garden-club-field-trip-05-15-2008-2413
END:VEVENT

END:VCALENDAR
