BEGIN:VCALENDAR
VERSION:2.0
PRODID:-//ChamberMaster//Event Calendar 2.0//EN
METHOD:PUBLISH
X-PUBLISHED-TTL:P3D
REFRESH-INTERVAL:P3D
CALSCALE:GREGORIAN
BEGIN:VEVENT
DTSTART;VALUE=DATE:20080317
DTEND;VALUE=DATE:20080318
TRANSP:TRANSPARENT
X-MICROSOFT-CDO-ALLDAYEVENT:TRUE
SUMMARY:Tomball Garden club field trip
DESCRIPTION:The garden club will be taking a field trip to Nelsons water gardens and then to Brookwoods. The county bus will be providing the ride and lunch will be at Brookwoods tearoom.
X-ALT-DESC;FMTTYPE=text/html:The garden club will be taking a field trip to Nelsons water gardens and then to Brookwoods. The county bus will be providing the ride and lunch will be at Brookwoods tearoom.
LOCATION:Meetin front of the Griffin museum on pine st at 8:30am
UID:e.155.2410
SEQUENCE:3
DTSTAMP:20260421T165406Z
URL:https://business.tomballchamber.org/events/details/tomball-garden-club-field-trip-03-17-2008-2410
END:VEVENT

END:VCALENDAR
