BEGIN:VCALENDAR
VERSION:2.0
PRODID:-//ChamberMaster//Event Calendar 2.0//EN
METHOD:PUBLISH
X-PUBLISHED-TTL:P3D
REFRESH-INTERVAL:P3D
CALSCALE:GREGORIAN
BEGIN:VEVENT
DTSTART;VALUE=DATE:20080204
DTEND;VALUE=DATE:20080205
TRANSP:TRANSPARENT
X-MICROSOFT-CDO-ALLDAYEVENT:TRUE
SUMMARY:Tomball GARDEN CLUB FIELD TRIP
DESCRIPTION:Tomball Garden Club will be taking a trip to the Cockrell Butterfly center and then have lunch. Meet the bus at the museum at 8:30am on February 4th in front of the museum on Pine st.
X-ALT-DESC;FMTTYPE=text/html:Tomball Garden Club will be taking a trip to the Cockrell Butterfly center and then have lunch. Meet the bus at the museum at 8:30am on February 4th in front of the museum on Pine st. 
LOCATION:Museum
UID:e.155.2391
SEQUENCE:3
DTSTAMP:20260421T201135Z
URL:https://business.tomballchamber.org/events/details/tomball-garden-club-field-trip-02-04-2008-2391
END:VEVENT

END:VCALENDAR
