BEGIN:VCALENDAR
VERSION:2.0
PRODID:-//ChamberMaster//Event Calendar 2.0//EN
METHOD:PUBLISH
X-PUBLISHED-TTL:P3D
REFRESH-INTERVAL:P3D
CALSCALE:GREGORIAN
BEGIN:VEVENT
DTSTART;VALUE=DATE:20080407
DTEND;VALUE=DATE:20080408
TRANSP:TRANSPARENT
X-MICROSOFT-CDO-ALLDAYEVENT:TRUE
SUMMARY:Tomball Garden Club
DESCRIPTION:The garden club will meet at Teas Nursery to make a topiary of herbs and plants
X-ALT-DESC;FMTTYPE=text/html:The garden club will meet at Teas Nursery to make a topiary of herbs and plants
LOCATION:Teas Nursery
UID:e.155.2411
SEQUENCE:3
DTSTAMP:20260421T145844Z
URL:https://business.tomballchamber.org/events/details/tomball-garden-club-04-07-2008-2411
END:VEVENT

END:VCALENDAR
