BEGIN:VCALENDAR
VERSION:2.0
PRODID:-//ChamberMaster//Event Calendar 2.0//EN
METHOD:PUBLISH
X-PUBLISHED-TTL:P3D
REFRESH-INTERVAL:P3D
CALSCALE:GREGORIAN
BEGIN:VEVENT
DTSTART;VALUE=DATE:20080107
DTEND;VALUE=DATE:20080108
TRANSP:TRANSPARENT
X-MICROSOFT-CDO-ALLDAYEVENT:TRUE
SUMMARY:Tomball Garden Club
DESCRIPTION:TOMBALL GARDEN CLUB WILL HOST IT`S FIRST MEETING OF THE NEW YEAR. SURPRISE CRAFT!!!!!     MEETING STARTS AT 1PM. EVERYONE IS WELCOME\nCONTACT DARCEL MERCER AT 2812528378
X-ALT-DESC;FMTTYPE=text/html:TOMBALL GARDEN CLUB WILL HOST IT`S FIRST MEETING OF THE NEW YEAR. SURPRISE CRAFT!!!!!     MEETING STARTS AT 1PM. EVERYONE IS WELCOME\nCONTACT DARCEL MERCER AT 2812528378
LOCATION:AMEGY BANK 2ND FLOOR
UID:e.155.2376
SEQUENCE:3
DTSTAMP:20260421T214618Z
URL:https://business.tomballchamber.org/events/details/tomball-garden-club-01-07-2008-2376
END:VEVENT

END:VCALENDAR
