BEGIN:VCALENDAR
VERSION:2.0
PRODID:-//ChamberMaster//Event Calendar 2.0//EN
METHOD:PUBLISH
X-PUBLISHED-TTL:P3D
REFRESH-INTERVAL:P3D
CALSCALE:GREGORIAN
BEGIN:VEVENT
DTSTART:20080725T230000Z
DTEND:20080726T010000Z
X-MICROSOFT-CDO-ALLDAYEVENT:FALSE
SUMMARY:Tomball Ford Introduces The All-New 2009 FLEX
DESCRIPTION:BE ONE OF THE FIRST TO EXIT THE ORDINARY AND EXPERIENCE THE 2009 FORD FLEX. YOU ARE INVITED TO ENJOY ASIAN CUISINE AND LIVE JAZZ MUSIC AS YOU SLIDE BEHIND THE WHEEL OF THE ULTRA UNIQIUE AND ELEGANT FLEX. BE ONE OF THE FIRST. DRIVE ONE.
X-ALT-DESC;FMTTYPE=text/html:<div>BE ONE OF THE FIRST TO EXIT THE ORDINARY AND EXPERIENCE THE 2009 FORD FLEX. YOU ARE INVITED TO ENJOY ASIAN CUISINE AND LIVE JAZZ MUSIC AS YOU SLIDE BEHIND THE WHEEL OF THE ULTRA UNIQIUE AND ELEGANT FLEX. BE ONE OF THE FIRST. DRIVE ONE.</div>
LOCATION:TOMBALL FORD 22702 HWY 249 TOMBALL\, TX 77375 281-351-3000
UID:e.155.2558
SEQUENCE:3
DTSTAMP:20260421T094732Z
URL:https://business.tomballchamber.org/events/details/tomball-ford-introduces-the-all-new-2009-flex-07-25-2008-2558
END:VEVENT

END:VCALENDAR
