BEGIN:VCALENDAR
VERSION:2.0
PRODID:-//ChamberMaster//Event Calendar 2.0//EN
METHOD:PUBLISH
X-PUBLISHED-TTL:P3D
REFRESH-INTERVAL:P3D
CALSCALE:GREGORIAN
BEGIN:VEVENT
DTSTART;VALUE=DATE:20080125
DTEND;VALUE=DATE:20080127
TRANSP:TRANSPARENT
X-MICROSOFT-CDO-ALLDAYEVENT:TRUE
SUMMARY:Tomball FFA Project Show & Sale
DESCRIPTION:Tomball FFA Project Show & SaleJanuary 25th - Project Show5:30 - Market Swine8:00 p.m. - Poultry January  26th - Auction7:30 - 10 - Rabbits10 - 11 - Lambs12:30 - 2:30 - Steers4:30 - 6:00 Buyers BBQ6:30 - Auction Sale
X-ALT-DESC;FMTTYPE=text/html:<div>&nbsp\;Tomball FFA Project Show &amp\; Sale</div><div>January 25th - Project Show</div><div>5:30 - Market Swine</div><div>8:00 p.m. - Poultry</div><div>&nbsp\;</div><div>January &nbsp\;26th - Auction</div><div>7:30 - 10 - Rabbits</div><div>10 - 11 - Lambs</div><div>12:30 - 2:30 - Steers</div><div>4:30 - 6:00 Buyers BBQ</div><div>6:30 - Auction Sale</div>
LOCATION:Tomball High School Project Center30330 Quinn Rd
UID:e.155.2374
SEQUENCE:3
DTSTAMP:20260421T200836Z
URL:https://business.tomballchamber.org/events/details/tomball-ffa-project-show-sale-01-25-2008-2374
END:VEVENT

END:VCALENDAR
