BEGIN:VCALENDAR
VERSION:2.0
PRODID:-//ChamberMaster//Event Calendar 2.0//EN
METHOD:PUBLISH
X-PUBLISHED-TTL:P3D
REFRESH-INTERVAL:P3D
CALSCALE:GREGORIAN
BEGIN:VEVENT
DTSTART:20070322T220000Z
DTEND:20070323T000000Z
X-MICROSOFT-CDO-ALLDAYEVENT:FALSE
SUMMARY:Tomball Day Spa Open House
DESCRIPTION:Tomball Day Spa Open House \nwith Magnolia Chamber
X-ALT-DESC;FMTTYPE=text/html:Tomball Day Spa Open House&nbsp\;<br />with Magnolia Chamber
LOCATION:305 Epps - Tomball
UID:e.155.1363
SEQUENCE:3
DTSTAMP:20260422T122401Z
URL:https://business.tomballchamber.org/events/details/tomball-day-spa-open-house-03-22-2007-1363
END:VEVENT

END:VCALENDAR
