BEGIN:VCALENDAR
VERSION:2.0
PRODID:-//ChamberMaster//Event Calendar 2.0//EN
METHOD:PUBLISH
X-PUBLISHED-TTL:P3D
REFRESH-INTERVAL:P3D
CALSCALE:GREGORIAN
BEGIN:VEVENT
DTSTART;VALUE=DATE:20070322
DTEND;VALUE=DATE:20070504
TRANSP:TRANSPARENT
X-MICROSOFT-CDO-ALLDAYEVENT:TRUE
SUMMARY:Tomball College Art Gallery
DESCRIPTION:Featuring the Paintings of Wilma Sharp\nOpening Recption March 22\, 5 - 7 p.m.
X-ALT-DESC;FMTTYPE=text/html:Featuring the Paintings of Wilma Sharp<br />Opening Recption March 22\, 5 - 7 p.m.<br />
LOCATION:Tomball College Art Gallery 30555 Tomball Parkway Tomball\, Texas 281.351.3380
UID:e.155.1673
SEQUENCE:3
DTSTAMP:20260422T091502Z
URL:https://business.tomballchamber.org/events/details/tomball-college-art-gallery-03-22-2007-1673
END:VEVENT

END:VCALENDAR
