BEGIN:VCALENDAR
VERSION:2.0
PRODID:-//ChamberMaster//Event Calendar 2.0//EN
METHOD:PUBLISH
X-PUBLISHED-TTL:P3D
REFRESH-INTERVAL:P3D
CALSCALE:GREGORIAN
BEGIN:VEVENT
DTSTART;VALUE=DATE:20070920
DTEND;VALUE=DATE:20070921
TRANSP:TRANSPARENT
X-MICROSOFT-CDO-ALLDAYEVENT:TRUE
SUMMARY:Tomball Citizens Police Academy
DESCRIPTION:Tomball Citizen's Police Academywill be accepting applications for thenew class beginning September 20\, 2007
X-ALT-DESC;FMTTYPE=text/html:<div>Tomball Citizen's Police Academy</div><div>will be accepting applications for the</div><div>new class beginning September 20\, 2007</div>
LOCATION:
UID:e.155.2289
SEQUENCE:3
DTSTAMP:20260422T044801Z
URL:https://business.tomballchamber.org/events/details/tomball-citizens-police-academy-09-20-2007-2289
END:VEVENT

END:VCALENDAR
