BEGIN:VCALENDAR
VERSION:2.0
PRODID:-//ChamberMaster//Event Calendar 2.0//EN
METHOD:PUBLISH
X-PUBLISHED-TTL:P3D
REFRESH-INTERVAL:P3D
CALSCALE:GREGORIAN
BEGIN:VEVENT
DTSTART:20191019T170000Z
DTEND:20191019T200000Z
X-MICROSOFT-CDO-ALLDAYEVENT:FALSE
SUMMARY:Tomball Church Chili Cook-Off Benefitting TEAM
DESCRIPTION:Loosen your belts and try em all\, y'all!  (Follow us on Facebook!)\n\n \n\nTeam Registration Forms are now live (click here)!\n\n \n\nYour church and congregation are invited to join us for Fellowship\, Fundraising\, and Food!  Tomball's Episcopal Church of the Good Shepherd is hosting a chili cook-off to support TEAM (Tomball Emergency Assistance Ministries) in a united effort.\n\n \n\nWhy: To join together in faith for the united cause of benefitting TEAM and helping the less fortunate in our community\n\n \n\nWhat: A chili cook-off with as many 4-person teams as would like to enter.  Once registered\, cook-off teams will receive information packets.\n\n \n\nTwo competitions:\n\n\n	Judged competition - The judges will be pastors from any church with an entry\n	Fan favorite - All attendees will have a vote on their favorite chili\n\n\n \n\nWho: This event is open to the entire public.  Teams\, as well as attendees\, are welcome from every walk of life.  Our goal is to build community and changes lives while we have a fun\, family-friendly time raising money for TEAM!\n\n \n\nWhen: Saturday\, October 19\, 2019\; 12 p.m. - 3 p.m. (teams will arrive early to begin cooking)\n\n \n\nWhere: Episcopal Church of the Good Shepherd (click here for details on how to find us)\n\n             715 Carrell St.\n\n             Tomball\, TX 77375\n\n \n\nThere will be youth activities (bounce house\, mobile gaming\, etc.)\, food and drink\, music\, and lots of fun for all ages!\n\n\n	Chili team entry fees are $120 per team\n	Event tickets are $10 each\, but children age 6 and under are free
X-ALT-DESC;FMTTYPE=text/html:<div><em><strong>Loosen your belts and try em all\, y&rsquo\;all! &nbsp\;(Follow us on <a href="https://www.facebook.com/pg/tomballchilicookoff/">Facebook!</a>)</strong></em></div>\n\n<div>&nbsp\;</div>\n\n<div><u><em><strong><a href="https://www.goodshepherdtomball.org/chili-registration">Team Registration Forms are now live</a></strong></em><a href="https://www.goodshepherdtomball.org/chili-registration"><em><strong>&nbsp\;(click here)!</strong></em></a></u></div>\n\n<div>&nbsp\;</div>\n\n<div>Your church and congregation are invited to join us for Fellowship\, Fundraising\, and Food! &nbsp\;Tomball&#39\;s Episcopal Church of the Good Shepherd is hosting a chili cook-off to support&nbsp\;<a href="https://teamtomball.com/" style="outline: 0px\; color: rgb(66\, 8\, 0)\; text-decoration: none\; box-sizing: border-box\; -webkit-font-smoothing: antialiased\;">TEAM</a><a href="https://teamtomball.com">&nbsp\;(Tomball Emergency Assistance Ministries)</a> in a united effort.</div>\n\n<div>&nbsp\;</div>\n\n<div><strong>Why:</strong>&nbsp\;To join together in faith for the united cause of benefitting TEAM and helping the less fortunate in our community</div>\n\n<div>&nbsp\;</div>\n\n<div><strong>What:</strong>&nbsp\;A chili cook-off with as many 4-person teams as would like to enter. &nbsp\;Once registered\, cook-off teams will receive information packets.</div>\n\n<div>&nbsp\;</div>\n\n<div><strong>Two competitions:</strong></div>\n\n<ol>\n	<li>Judged competition -&nbsp\;The judges will be pastors from any church with an entry</li>\n	<li>Fan favorite - All attendees will have a vote on their favorite chili</li>\n</ol>\n\n<div>&nbsp\;</div>\n\n<div><strong>Who:</strong>&nbsp\;This event is open to the entire public. &nbsp\;Teams\, as well as attendees\, are welcome from every walk of life. &nbsp\;Our goal is to build community and changes lives while we have a fun\, family-friendly time raising money for TEAM!</div>\n\n<div>&nbsp\;</div>\n\n<div><strong>When:</strong>&nbsp\;Saturday\, October 19\, 2019\; 12 p.m. - 3 p.m. (teams will arrive early to begin cooking)</div>\n\n<div>&nbsp\;</div>\n\n<div><strong>Where:</strong>&nbsp\;Episcopal Church of the Good Shepherd (<a href="https://www.goodshepherdtomball.org/how-to-find-us">click here for details on how to find us</a>)</div>\n\n<div>&nbsp\; &nbsp\; &nbsp\; &nbsp\; &nbsp\; &nbsp\; &nbsp\;715 Carrell St.</div>\n\n<div>&nbsp\; &nbsp\; &nbsp\; &nbsp\; &nbsp\; &nbsp\; &nbsp\;Tomball\, TX 77375</div>\n\n<div>&nbsp\;</div>\n\n<div>There will be youth activities (bounce house\, mobile gaming\, etc.)\, food and drink\, music\, and lots of fun for all ages!</div>\n\n<ul>\n	<li>Chili team entry fees are $120 per team</li>\n	<li>Event tickets are $10 each\, but children age 6 and under are free</li>\n</ul>\n
LOCATION:Where: Episcopal Church of the Good Shepherd (click here for details on how to find us) 715 Carrell St. Tomball\, TX 77375
UID:e.155.31965
SEQUENCE:3
DTSTAMP:20260425T155206Z
URL:https://business.tomballchamber.org/events/details/tomball-church-chili-cook-off-benefitting-team-31965
END:VEVENT

END:VCALENDAR
