BEGIN:VCALENDAR
VERSION:2.0
PRODID:-//ChamberMaster//Event Calendar 2.0//EN
METHOD:PUBLISH
X-PUBLISHED-TTL:P3D
REFRESH-INTERVAL:P3D
CALSCALE:GREGORIAN
BEGIN:VEVENT
DTSTART:20070920T230000Z
DTEND:20070920T230000Z
X-MICROSOFT-CDO-ALLDAYEVENT:FALSE
SUMMARY:Tomball Charter Chapter of the American Business Women
DESCRIPTION:An invitation to join us the 3rd Thursday of each month
X-ALT-DESC;FMTTYPE=text/html:<div>An invitation to join us the 3rd Thursday of each month</div>
LOCATION:Toball College Elmer Beckendorf Conference Room 168A
UID:e.155.2313
SEQUENCE:3
DTSTAMP:20260422T030447Z
URL:https://business.tomballchamber.org/events/details/tomball-charter-chapter-of-the-american-business-women-09-20-2007-2313
END:VEVENT

END:VCALENDAR
