BEGIN:VCALENDAR
VERSION:2.0
PRODID:-//ChamberMaster//Event Calendar 2.0//EN
METHOD:PUBLISH
X-PUBLISHED-TTL:P3D
REFRESH-INTERVAL:P3D
CALSCALE:GREGORIAN
BEGIN:VEVENT
DTSTART:20071128T220000Z
DTEND:20071128T220000Z
X-MICROSOFT-CDO-ALLDAYEVENT:FALSE
SUMMARY:Tomball Chamber Board of Directors Meeting
DESCRIPTION:
X-ALT-DESC;FMTTYPE=text/html:
LOCATION:Greater Tomball Area Chamber of Commerce14011 Park Drive
UID:e.155.1684
SEQUENCE:3
DTSTAMP:20260421T233747Z
URL:https://business.tomballchamber.org/events/details/tomball-chamber-board-of-directors-meeting-11-28-2007-1684
END:VEVENT

END:VCALENDAR
