BEGIN:VCALENDAR
VERSION:2.0
PRODID:-//ChamberMaster//Event Calendar 2.0//EN
METHOD:PUBLISH
X-PUBLISHED-TTL:P3D
REFRESH-INTERVAL:P3D
CALSCALE:GREGORIAN
BEGIN:VEVENT
DTSTART:20080319T043000Z
DTEND:20080318T180000Z
X-MICROSOFT-CDO-ALLDAYEVENT:FALSE
SUMMARY:Tomball Business & Professional Women
DESCRIPTION:
X-ALT-DESC;FMTTYPE=text/html:
LOCATION:Amegy Bank\, Tomball
UID:e.155.2419
SEQUENCE:3
DTSTAMP:20260421T165244Z
URL:https://business.tomballchamber.org/events/details/tomball-business-professional-women-03-18-2008-2419
END:VEVENT

END:VCALENDAR
