BEGIN:VCALENDAR
VERSION:2.0
PRODID:-//ChamberMaster//Event Calendar 2.0//EN
METHOD:PUBLISH
X-PUBLISHED-TTL:P3D
REFRESH-INTERVAL:P3D
CALSCALE:GREGORIAN
BEGIN:VEVENT
DTSTART:20230624T160000Z
DTEND:20230624T190000Z
X-MICROSOFT-CDO-ALLDAYEVENT:FALSE
SUMMARY:Tomball Author Fest
DESCRIPTION:This exciting free event brings together over 20 local authors from a wide variety of genres. Meet and greet these amazing authors and get your books signed in person. Not only will you have the opportunity to interact with local authors\, but you will also be supporting a great cause. A portion of all book sales goes to the Tomball Friends of the Library\, a nonprofit organization dedicated to supporting the Tomball Community Library and its programs. Book sales are facilitated by the authors and our community partner\, Buy the Book bookstore. Whether you're a lifelong book lover or simply curious about the local literary scene\, the Tomball Author Fest has something for everyone. Come discover new books and new authors\, all while supporting a fantastic cause. We hope to see you there!
X-ALT-DESC;FMTTYPE=text/html:This exciting free event brings together over 20 local authors from a wide variety of genres. Meet and greet these amazing authors and get your books signed in person. Not only will you have the opportunity to interact with local authors\, but you will also be supporting a great cause. A portion of all book sales goes to the Tomball Friends of the Library\, a nonprofit organization dedicated to supporting the Tomball Community Library and its programs. Book sales are facilitated by the authors and our community partner\, Buy the Book bookstore. Whether you&#39\;re a lifelong book lover or simply curious about the local literary scene\, the Tomball Author Fest has something for everyone. Come discover new books and new authors\, all while supporting a fantastic cause. We hope to see you there!
LOCATION:LSC-Tomball Community Library - 30555 Tomball Parkway Tomball\, TX 77375
UID:e.155.37970
SEQUENCE:3
DTSTAMP:20260420T044841Z
URL:https://business.tomballchamber.org/events/details/tomball-author-fest-37970
END:VEVENT

END:VCALENDAR
