BEGIN:VCALENDAR
VERSION:2.0
PRODID:-//ChamberMaster//Event Calendar 2.0//EN
METHOD:PUBLISH
X-PUBLISHED-TTL:P3D
REFRESH-INTERVAL:P3D
CALSCALE:GREGORIAN
BEGIN:VEVENT
DTSTART;VALUE=DATE:20070310
DTEND;VALUE=DATE:20070311
TRANSP:TRANSPARENT
X-MICROSOFT-CDO-ALLDAYEVENT:TRUE
SUMMARY:Tomball Art League & TRAC hosts Community Art Show
DESCRIPTION:Tomball Art League & TRAC hosts\nLocal Artists and Students art work - Entries still available
X-ALT-DESC;FMTTYPE=text/html:Tomball Art League &amp\; TRAC hosts<br />Local Artists and Students art work - Entries still available
LOCATION:Tomball Community Center - 221 Market & Cherry St
UID:e.155.1354
SEQUENCE:3
DTSTAMP:20260422T124003Z
URL:https://business.tomballchamber.org/events/details/tomball-art-league-trac-hosts-community-art-show-03-10-2007-1354
END:VEVENT

END:VCALENDAR
