BEGIN:VCALENDAR
VERSION:2.0
PRODID:-//ChamberMaster//Event Calendar 2.0//EN
METHOD:PUBLISH
X-PUBLISHED-TTL:P3D
REFRESH-INTERVAL:P3D
CALSCALE:GREGORIAN
BEGIN:VEVENT
DTSTART:20230628T170000Z
DTEND:20230628T180000Z
X-MICROSOFT-CDO-ALLDAYEVENT:FALSE
SUMMARY:TOMAGWA Lunch & Learn Tour
DESCRIPTION:Join us for a delicious and informative lunch at our TOMAGWA Lunch & Learn Tour! This in-person event will take place on Wednesday June 28\, 2023 12:00pm at 455 School Street Suite 30\, Tomball\, TX 77375.\n\n \n\nAt the TOMAGWA Lunch & Learn Tour\, you'll get the chance to meet our team and learn more about our mission to provide quality healthcare to those in need. We'll also be sharing some exciting updates about our programs and services.\n\n \n\nDon't miss out on this opportunity to connect with the TOMAGWA community and enjoy a delicious lunch! RSVP today to secure your spot.
X-ALT-DESC;FMTTYPE=text/html:<div>Join us for a delicious and informative lunch at our TOMAGWA Lunch &amp\; Learn Tour! This in-person event will take place on Wednesday June 28\, 2023 12:00pm at 455 School Street Suite 30\, Tomball\, TX 77375.<br />\n&nbsp\;</div>\n\n<div>At the TOMAGWA Lunch &amp\; Learn Tour\, you&#39\;ll get the chance to meet our team and learn more about our mission to provide quality healthcare to those in need. We&#39\;ll also be sharing some exciting updates about our programs and services.<br />\n&nbsp\;</div>\n\n<div>Don&#39\;t miss out on this opportunity to connect with the TOMAGWA community and enjoy a delicious lunch! RSVP today to secure your spot.</div>\n
LOCATION:455 School St. Ste 30\, Tomball TX 77375
UID:e.155.37996
SEQUENCE:3
DTSTAMP:20260420T061944Z
URL:https://business.tomballchamber.org/events/details/tomagwa-lunch-learn-tour-37996
END:VEVENT

END:VCALENDAR
