BEGIN:VCALENDAR
VERSION:2.0
PRODID:-//ChamberMaster//Event Calendar 2.0//EN
METHOD:PUBLISH
X-PUBLISHED-TTL:P3D
REFRESH-INTERVAL:P3D
CALSCALE:GREGORIAN
BEGIN:VEVENT
DTSTART:20070330T124500Z
DTEND:20070507T210000Z
X-MICROSOFT-CDO-ALLDAYEVENT:FALSE
SUMMARY:TISD - Bond Early Voting
DESCRIPTION:Early Voting Information\nTISD Bond
X-ALT-DESC;FMTTYPE=text/html:Early Voting Information<br />TISD Bond
LOCATION:Tomball City Hall\, Conference Room 401 Market Street Tomball\, Texas 77375
UID:e.155.1664
SEQUENCE:3
DTSTAMP:20260422T091324Z
URL:https://business.tomballchamber.org/events/details/tisd-bond-early-voting-03-30-2007-1664
END:VEVENT

END:VCALENDAR
