BEGIN:VCALENDAR
VERSION:2.0
PRODID:-//ChamberMaster//Event Calendar 2.0//EN
METHOD:PUBLISH
X-PUBLISHED-TTL:P3D
REFRESH-INTERVAL:P3D
CALSCALE:GREGORIAN
BEGIN:VEVENT
DTSTART;VALUE=DATE:20080216
DTEND;VALUE=DATE:20080217
TRANSP:TRANSPARENT
X-MICROSOFT-CDO-ALLDAYEVENT:TRUE
SUMMARY:THS Project Prom Sporting Clay Fundraiser
DESCRIPTION:Benefits Project Prom for Senior class of 2008!\nSponsored by Tomball Sr. Parent Organization.\nAccepting sign-ups now!  Visit www.tomballspo.net for details.
X-ALT-DESC;FMTTYPE=text/html:Benefits Project Prom for Senior class of 2008!\nSponsored by Tomball Sr. Parent Organization.\nAccepting sign-ups now!  Visit www.tomballspo.net for details.
LOCATION:Westside Sporting Grounds near Katy
UID:e.155.2383
SEQUENCE:3
DTSTAMP:20260421T182557Z
URL:https://business.tomballchamber.org/events/details/ths-project-prom-sporting-clay-fundraiser-02-16-2008-2383
END:VEVENT

END:VCALENDAR
