BEGIN:VCALENDAR
VERSION:2.0
PRODID:-//ChamberMaster//Event Calendar 2.0//EN
METHOD:PUBLISH
X-PUBLISHED-TTL:P3D
REFRESH-INTERVAL:P3D
CALSCALE:GREGORIAN
BEGIN:VEVENT
DTSTART:20080224T010000Z
DTEND:20080224T040000Z
X-MICROSOFT-CDO-ALLDAYEVENT:FALSE
SUMMARY:THS Mr. Debonair Contest
DESCRIPTION:The 17th Annual Mr. Debonair Contest at Tomball High School!\nSr. Boys Club event\, Sponsored by Tomball Sr. Parent Organization.
X-ALT-DESC;FMTTYPE=text/html:The 17th Annual Mr. Debonair Contest at Tomball High School!\nSr. Boys Club event\, Sponsored by Tomball Sr. Parent Organization.\n\n
LOCATION:THS Auditorium
UID:e.155.2400
SEQUENCE:3
DTSTAMP:20260421T182638Z
URL:https://business.tomballchamber.org/events/details/ths-mr-debonair-contest-02-23-2008-2400
END:VEVENT

END:VCALENDAR
