BEGIN:VCALENDAR
VERSION:2.0
PRODID:-//ChamberMaster//Event Calendar 2.0//EN
METHOD:PUBLISH
X-PUBLISHED-TTL:P3D
REFRESH-INTERVAL:P3D
CALSCALE:GREGORIAN
BEGIN:VEVENT
DTSTART:20070316T200000Z
DTEND:20070323T213000Z
X-MICROSOFT-CDO-ALLDAYEVENT:FALSE
SUMMARY:Thin Man Film Festival
DESCRIPTION:The Tomball College and Community Library will present a five-week film series of the Thin Man Detective series.  Follow the madcap antics of Detectives Nick and Nora Charles in this classic series from the 30s and 40s.  The Thin Man Film Festival will show in the library?s 1st floor meeting room each Friday in March.  Light refreshments served!
X-ALT-DESC;FMTTYPE=text/html:The Tomball College and Community Library will present a five-week film series of the Thin Man Detective series.  Follow the madcap antics of Detectives Nick and Nora Charles in this classic series from the 30s and 40s.  The Thin Man Film Festival will show in the library?s 1st floor meeting room each Friday in March.  Light refreshments served!
LOCATION:Tomball College & Community Library 30555 Tomball Pkwy.
UID:e.155.1390
SEQUENCE:3
DTSTAMP:20260422T122640Z
URL:https://business.tomballchamber.org/events/details/thin-man-film-festival-03-16-2007-1390
END:VEVENT

END:VCALENDAR
