BEGIN:VCALENDAR
VERSION:2.0
PRODID:-//ChamberMaster//Event Calendar 2.0//EN
METHOD:PUBLISH
X-PUBLISHED-TTL:P3D
REFRESH-INTERVAL:P3D
CALSCALE:GREGORIAN
BEGIN:VEVENT
DTSTART:20220726T233000Z
DTEND:20220727T020000Z
X-MICROSOFT-CDO-ALLDAYEVENT:FALSE
SUMMARY:The Yellow Rose of Texas Republican Women “Redistricting Effects on 2022 Election” w/ Commissioner Jack Cagle & Commissioner Tom Ramsey
DESCRIPTION:The Yellow Rose of Texas RW will host Harris County Commissioner's Jack Cagle\, Precinct 4\, and Tom Ramsey\, Precinct 3\, speaking together on the Redistricting Effects on Harris County Commissioners Court in the 2022 Mid-term Election in November\, 2022. The Yellow Rose of Texas Republican Women are hosting the meeting and invite Republicans and Independent Conservatives. Admission is free and members and guests are encouraged to arrive early at 6:30 pm to get your seat & dine before the program starts at 7 pm. Political advertising paid for by The Yellow Rose of Texas Republican Women\, PAC\, Stephanie Valdes\, P.O. Box 1323\, Tomball\, TX 77377. Contributions are not federal tax deductible as charitable contributions. Corporate contributions not permitted. Personal contributions are accepted.
X-ALT-DESC;FMTTYPE=text/html:The Yellow Rose of Texas RW will host Harris County Commissioner&lsquo\;s Jack Cagle\, Precinct 4\, and Tom Ramsey\, Precinct 3\, speaking together on the Redistricting Effects on Harris County Commissioners Court in the 2022 Mid-term Election in November\, 2022. The Yellow Rose of Texas Republican Women are hosting the meeting and invite Republicans and Independent Conservatives. Admission is free and members and guests are encouraged to arrive early at 6:30 pm to get your seat &amp\; dine before the program starts at 7 pm. Political advertising paid for by The Yellow Rose of Texas Republican Women\, PAC\, Stephanie Valdes\, P.O. Box 1323\, Tomball\, TX 77377. Contributions are not federal tax deductible as charitable contributions. Corporate contributions not permitted. Personal contributions are accepted.
LOCATION:Harris County Smokehouse 14243 FM 2920 Tomball\, TX 77377
UID:e.155.36431
SEQUENCE:3
DTSTAMP:20260421T100541Z
URL:https://business.tomballchamber.org/events/details/the-yellow-rose-of-texas-republican-women-redistricting-effects-on-2022-election-w-commissioner-jack-cagle-commissioner-tom-ramsey-36431
END:VEVENT

END:VCALENDAR
