BEGIN:VCALENDAR
VERSION:2.0
PRODID:-//ChamberMaster//Event Calendar 2.0//EN
METHOD:PUBLISH
X-PUBLISHED-TTL:P3D
REFRESH-INTERVAL:P3D
CALSCALE:GREGORIAN
BEGIN:VEVENT
DTSTART:20071102T170000Z
DTEND:20071104T180000Z
X-MICROSOFT-CDO-ALLDAYEVENT:FALSE
SUMMARY:The Wizard of Oz
DESCRIPTION:CYT (Christian Youth Theater) presents  THE WIZARD OF OZ
X-ALT-DESC;FMTTYPE=text/html:CYT (Christian Youth Theater) presents  THE WIZARD OF OZ
LOCATION:TOMBALL BIBLE CHURCH
UID:e.155.2352
SEQUENCE:3
DTSTAMP:20260422T011329Z
URL:https://business.tomballchamber.org/events/details/the-wizard-of-oz-11-02-2007-2352
END:VEVENT

END:VCALENDAR
