BEGIN:VCALENDAR
VERSION:2.0
PRODID:-//ChamberMaster//Event Calendar 2.0//EN
METHOD:PUBLISH
X-PUBLISHED-TTL:P3D
REFRESH-INTERVAL:P3D
CALSCALE:GREGORIAN
BEGIN:VEVENT
DTSTART:20071006T130000Z
DTEND:20071007T220000Z
X-MICROSOFT-CDO-ALLDAYEVENT:FALSE
SUMMARY:The Wings Over Houston Airshow
DESCRIPTION:The Wings Over Houston Airshow will be held Saturday and Sunday\, October 6-7\, 2007\, at Houston's Ellington Field.  Gates will be open Saturday from 8am to 6pm and Sunday from 8am to 5pm for static displays.  Aerial performances begin at approsimately 10am (subject to change.)  Schedule can be found on website (www.wingsoverhouston.com).
X-ALT-DESC;FMTTYPE=text/html:<div>The Wings Over Houston Airshow will be held Saturday and Sunday\, October 6-7\, 2007\, at Houston's Ellington Field.&nbsp\; Gates will be open Saturday from 8am to 6pm and Sunday from 8am to 5pm for static displays.&nbsp\; Aerial performances begin at approsimately 10am (subject to change.)&nbsp\; Schedule can be found on website (<a href="http://www.wingsoverhouston.com">www.wingsoverhouston.com</a>).</div>
LOCATION:
UID:e.155.2336
SEQUENCE:3
DTSTAMP:20260422T011518Z
URL:https://business.tomballchamber.org/events/details/the-wings-over-houston-airshow-10-06-2007-2336
END:VEVENT

END:VCALENDAR
