BEGIN:VCALENDAR
VERSION:2.0
PRODID:-//ChamberMaster//Event Calendar 2.0//EN
METHOD:PUBLISH
X-PUBLISHED-TTL:P3D
REFRESH-INTERVAL:P3D
CALSCALE:GREGORIAN
BEGIN:VEVENT
DTSTART;VALUE=DATE:20070909
DTEND;VALUE=DATE:20071119
TRANSP:TRANSPARENT
X-MICROSOFT-CDO-ALLDAYEVENT:TRUE
SUMMARY:The Truth Project
DESCRIPTION:Community-wide small group study on worldview and having a Biblical worldview. The Truth Project is a DVD-based small group curriculum comprised of 12 one-hour lessons taught by Dr. Del Tackett. This home study is the starting point for looking at life from a biblical perspective. Topics include "What is Truth\," "Philosophy and Ethics\," "Anthropology\,"  "Science: What is True\," "The American Experiment: Stepping Stones" to name a select few.
X-ALT-DESC;FMTTYPE=text/html:Community-wide small group study on worldview and having a Biblical worldview. The Truth Project is a DVD-based small group curriculum comprised of 12 one-hour lessons taught by Dr. Del Tackett. This home study is the starting point for looking at life from a biblical perspective. Topics include "What is Truth\," "Philosophy and Ethics\," "Anthropology\,"  "Science: What is True\," "The American Experiment: Stepping Stones" to name a select few.
LOCATION:Homes around the community
UID:e.155.2292
SEQUENCE:3
DTSTAMP:20260421T233313Z
URL:https://business.tomballchamber.org/events/details/the-truth-project-09-09-2007-2292
END:VEVENT

END:VCALENDAR
