BEGIN:VCALENDAR
VERSION:2.0
PRODID:-//ChamberMaster//Event Calendar 2.0//EN
METHOD:PUBLISH
X-PUBLISHED-TTL:P3D
REFRESH-INTERVAL:P3D
CALSCALE:GREGORIAN
BEGIN:VEVENT
DTSTART:20080502T000000Z
DTEND:20080505T030000Z
X-MICROSOFT-CDO-ALLDAYEVENT:FALSE
SUMMARY:The Sound of Music - Musical
DESCRIPTION:The Sound of MusicCondordia Lutheran High School
X-ALT-DESC;FMTTYPE=text/html:<div>The Sound of Music</div><div>Condordia Lutheran High School</div>
LOCATION:Concordia Lutheran High School700 East Main StreetTomball\, Texas
UID:e.155.2476
SEQUENCE:3
DTSTAMP:20260421T150355Z
URL:https://business.tomballchamber.org/events/details/the-sound-of-music-musical-05-01-2008-2476
END:VEVENT

END:VCALENDAR
