BEGIN:VCALENDAR
VERSION:2.0
PRODID:-//ChamberMaster//Event Calendar 2.0//EN
METHOD:PUBLISH
X-PUBLISHED-TTL:P3D
REFRESH-INTERVAL:P3D
CALSCALE:GREGORIAN
BEGIN:VEVENT
DTSTART:20071013T180000Z
DTEND:20071013T210000Z
X-MICROSOFT-CDO-ALLDAYEVENT:FALSE
SUMMARY:The Regional Arts Council and Tomball Art League Fall Art Show
DESCRIPTION:The Tomball Art League Fall Juried Art Show.  Open to the public from 1:00-4:00 p.m.
X-ALT-DESC;FMTTYPE=text/html:The Tomball Art League Fall Juried Art Show.  Open to the public from 1:00-4:00 p.m.
LOCATION:Tomball Community Center on the corner of Cherry Street and Market Street
UID:e.155.2342
SEQUENCE:3
DTSTAMP:20260422T011825Z
URL:https://business.tomballchamber.org/events/details/the-regional-arts-council-and-tomball-art-league-fall-art-show-10-13-2007-2342
END:VEVENT

END:VCALENDAR
