BEGIN:VCALENDAR
VERSION:2.0
PRODID:-//ChamberMaster//Event Calendar 2.0//EN
METHOD:PUBLISH
X-PUBLISHED-TTL:P3D
REFRESH-INTERVAL:P3D
CALSCALE:GREGORIAN
BEGIN:VEVENT
DTSTART:20070419T220000Z
DTEND:20070419T233000Z
X-MICROSOFT-CDO-ALLDAYEVENT:FALSE
SUMMARY:The Politics of the Health Care Crisis
DESCRIPTION:Tomball College Government Professor Annie Benfield presents ?The Politics of the Health Care Crisis? as part of the Evening for Educators series.  The presentation will be followed by a reception and discussion.  Educators can earn one hour of CPE credit for attending.
X-ALT-DESC;FMTTYPE=text/html:Tomball College Government Professor Annie Benfield presents ?The Politics of the Health Care Crisis? as part of the Evening for Educators series.  The presentation will be followed by a reception and discussion.  Educators can earn one hour of CPE credit for attending.  
LOCATION:Tomball College & Community Library 30555 Tomball Pkwy. First floor Meeting Room
UID:e.155.1668
SEQUENCE:3
DTSTAMP:20260422T105226Z
URL:https://business.tomballchamber.org/events/details/the-politics-of-the-health-care-crisis-04-19-2007-1668
END:VEVENT

END:VCALENDAR
