BEGIN:VCALENDAR
VERSION:2.0
PRODID:-//ChamberMaster//Event Calendar 2.0//EN
METHOD:PUBLISH
X-PUBLISHED-TTL:P3D
REFRESH-INTERVAL:P3D
CALSCALE:GREGORIAN
BEGIN:VEVENT
DTSTART;VALUE=DATE:20071207
DTEND;VALUE=DATE:20071210
TRANSP:TRANSPARENT
X-MICROSOFT-CDO-ALLDAYEVENT:TRUE
SUMMARY:The Nutcracker presented by HRB and TRAC
DESCRIPTION:Tickets are now on sale.  You will not want to miss this annual Christmas Event.
X-ALT-DESC;FMTTYPE=text/html:Tickets are now on sale.  You will not want to miss this annual Christmas Event.
LOCATION:Tomball High School Theatre 30330 Quinn\, Tomball
UID:e.155.2343
SEQUENCE:3
DTSTAMP:20260421T214248Z
URL:https://business.tomballchamber.org/events/details/the-nutcracker-presented-by-hrb-and-trac-12-07-2007-2343
END:VEVENT

END:VCALENDAR
