BEGIN:VCALENDAR
VERSION:2.0
PRODID:-//ChamberMaster//Event Calendar 2.0//EN
METHOD:PUBLISH
X-PUBLISHED-TTL:P3D
REFRESH-INTERVAL:P3D
CALSCALE:GREGORIAN
BEGIN:VEVENT
DTSTART:20071218T013000Z
DTEND:20071218T033000Z
X-MICROSOFT-CDO-ALLDAYEVENT:FALSE
SUMMARY:The Messiah
DESCRIPTION:Texas Master Chorale's Christmas program is George F. Handel's beloved oratorio The Messiah.  The Chorale will be joined by the Klein Oak High School Choir and members of the Houston Symphony.
X-ALT-DESC;FMTTYPE=text/html:Texas Master Chorale's Christmas program is George F. Handel's beloved oratorio The Messiah.  The Chorale will be joined by the Klein Oak High School Choir and members of the Houston Symphony.
LOCATION:The Centrum\, Cypress Creek Christian Church\, 6823 Cypresswood Drive\, Spring Texas
UID:e.155.2308
SEQUENCE:3
DTSTAMP:20260421T214231Z
URL:https://business.tomballchamber.org/events/details/the-messiah-12-17-2007-2308
END:VEVENT

END:VCALENDAR
