BEGIN:VCALENDAR
VERSION:2.0
PRODID:-//ChamberMaster//Event Calendar 2.0//EN
METHOD:PUBLISH
X-PUBLISHED-TTL:P3D
REFRESH-INTERVAL:P3D
CALSCALE:GREGORIAN
BEGIN:VEVENT
DTSTART:20230729T170000Z
DTEND:20230729T210000Z
X-MICROSOFT-CDO-ALLDAYEVENT:FALSE
SUMMARY:The Mac & Cheese Throwdown 23!
DESCRIPTION:Franny's Bartending Presents\n\n\n\n\n\nThe Mac & Cheese Throwdown 23!\n\n\n\n\n\nWhat's better than a bowl of mac & cheese? Deciding who has the best\, of course! Then come out to the cheesiest and gooiest place around Tomball!\n\n\n\nJoin us for the mac & cheese throwdown\, a showdown\, a competition sure to have you asking for more! Ready to try some of the most delicious mac & cheese in the land? Then you do not want to miss out. You'll be able to try up to 20 unique mac & cheeses and then YOU get to help decide who really has the best! There will also be a vendor exhibition so be sure to stop by to get your Mac on and support small businesses.\n\n\n\nWhen: Saturday July 29th\, 2023 from 12:00pm to 4:00pm\n\nWhere: The Estates at Pecan Park in Tomball\, Texas\n\n22633 Park Rd\, Tomball\, TX 77377\n\n\n\nTickets are on sale now!\n\nThe deadline for ticket purchases is Saturday\, 7/22/23.\n\n\n\nOpportunities!\n\nSponsor\n\nVendor\n\nEnter competition and win prize money!\n\nAttend and enjoy\n\n\n\nAll information regarding the above can be found at\n\nhttps://www.frannysbartending.com/events
X-ALT-DESC;FMTTYPE=text/html:<div background-color:="" class="w-wrapper" data-v-a10a13dc="" data-v-ab1ca44a="" font-size:="" pt="" style="box-sizing: inherit\; align-items: inherit\; position: relative\; width: 507.328px\; color: rgb(65\, 99\, 108)\; font-family: ">\n<div --inline-link-color:="" class="text-component &#128218\;18-0-7uGevg &#128218\;18-0-7EEwzY w-text--rendered" data-v-0dc2c114="" data-v-54fd6eb4="" data-v-a10a13dc="" data-v-ab1ca44a="" playfair="" style="box-sizing: inherit\; --min-resolution: 320\; --min-font-size: var(--mobile-base-font-size)\; --min-font-size-scale: var(--mobile-font-size-scale)\; --min-fs--2: calc(var(--min-fs--1)/var(--min-font-size-scale))\; --min-fs--1: calc(var(--min-fs-0)/var(--min-font-size-scale))\; --min-fs-0: var(--min-font-size)\; --min-fs-1: calc(var(--min-fs-0)*var(--min-font-size-scale))\; --min-fs-2: calc(var(--min-fs-1)*var(--min-font-size-scale))\; --min-fs-3: calc(var(--min-fs-2)*var(--min-font-size-scale))\; --min-fs-4: calc(var(--min-fs-3)*var(--min-font-size-scale))\; --min-fs-5: calc(var(--min-fs-4)*var(--min-font-size-scale))\; --min-fs-6: calc(var(--min-fs-5)*var(--min-font-size-scale))\; --min-fs-7: calc(var(--min-fs-6)*var(--min-font-size-scale))\; --max-resolution: 1280\; --max-font-size: var(--min-font-size)\; --max-font-size-scale: calc(var(--min-font-size-scale) + 0.11)\; --max-fs--2: calc(var(--max-fs--1)/var(--max-font-size-scale))\; --max-fs--1: calc(var(--max-fs-0)/var(--max-font-size-scale))\; --max-fs-0: var(--max-font-size)\; --max-fs-1: calc(var(--max-fs-0)*var(--max-font-size-scale))\; --max-fs-2: calc(var(--max-fs-1)*var(--max-font-size-scale))\; --max-fs-3: calc(var(--max-fs-2)*var(--max-font-size-scale))\; --max-fs-4: calc(var(--max-fs-3)*var(--max-font-size-scale))\; --max-fs-5: calc(var(--max-fs-4)*var(--max-font-size-scale))\; --max-fs-6: calc(var(--max-fs-5)*var(--max-font-size-scale))\; --max-fs-7: calc(var(--max-fs-6)*var(--max-font-size-scale))\; --resolution-range: calc(var(--max-resolution) - var(--min-resolution))\; --resolution: 1200px\; --resolution-progress: calc(var(--resolution) - var(--min-resolution)*1px)\; --interpolate-by: calc(var(--resolution-progress)/var(--resolution-range))\; --range-fs--2: calc(var(--max-fs--2) - var(--min-fs--2))\; --range-fs--1: calc(var(--max-fs--1) - var(--min-fs--1))\; --range-fs-0: calc(var(--max-fs-0) - var(--min-fs-0))\; --range-fs-1: calc(var(--max-fs-1) - var(--min-fs-1))\; --range-fs-2: calc(var(--max-fs-2) - var(--min-fs-2))\; --range-fs-3: calc(var(--max-fs-3) - var(--min-fs-3))\; --range-fs-4: calc(var(--max-fs-4) - var(--min-fs-4))\; --range-fs-5: calc(var(--max-fs-5) - var(--min-fs-5))\; --range-fs-6: calc(var(--max-fs-6) - var(--min-fs-6))\; --range-fs-7: calc(var(--max-fs-7) - var(--min-fs-7))\; --fs--2: max(12px\,calc(var(--min-fs--2)*1px + var(--range-fs--2)*var(--interpolate-by)))\; --fs--1: max(14px\,calc(var(--min-fs--1)*1px + var(--range-fs--1)*var(--interpolate-by)))\; --fs-0: calc(var(--min-fs-0)*1px + var(--range-fs-0)*var(--interpolate-by))\; --fs-1: calc(var(--min-fs-1)*1px + var(--range-fs-1)*var(--interpolate-by))\; --fs-2: calc(var(--min-fs-2)*1px + var(--range-fs-2)*var(--interpolate-by))\; --fs-3: calc(var(--min-fs-3)*1px + var(--range-fs-3)*var(--interpolate-by))\; --fs-4: calc(var(--min-fs-4)*1px + var(--range-fs-4)*var(--interpolate-by))\; --fs-5: calc(var(--min-fs-5)*1px + var(--range-fs-5)*var(--interpolate-by))\; --fs-6: calc(var(--min-fs-6)*1px + var(--range-fs-6)*var(--interpolate-by))\; --fs-7: calc(var(--min-fs-7)*1px + var(--range-fs-7)*var(--interpolate-by))\; --line-height: 1.5\; --line-height-scale: 0.95\; --lh--2: calc(var(--lh--1)/var(--line-height-scale))\; --lh--1: calc(var(--lh-0)/var(--line-height-scale))\; --lh-0: var(--line-height)\; --lh-1: calc(var(--lh-0)*var(--line-height-scale))\; --lh-2: calc(var(--lh-1)*var(--line-height-scale))\; --lh-3: calc(var(--lh-2)*var(--line-height-scale))\; --lh-4: calc(var(--lh-3)*var(--line-height-scale))\; --lh-5: calc(var(--lh-4)*var(--line-height-scale))\; --lh-6: calc(var(--lh-5)*var(--line-height-scale))\; --lh-7: calc(var(--lh-6)*var(--line-height-scale))\; margin: 0px\; overflow-wrap: anywhere\; word-break: break-word\; font-size: var(--fs--1)\; line-height: var(--lh--1)\; --mobile-base-font-size: 16\; --mobile-font-size-scale: 1.15\; font-family: ">\n<h6 style="box-sizing: inherit\; margin: 0px\; padding: 0px\; font-size: inherit\; font-family: inherit\; color: inherit\; font-weight: inherit\;"><span style="font-size:14px\;">Franny&#39\;s Bartending Presents</span></h6>\n</div>\n</div>\n\n<div background-color:="" class="w-wrapper" data-v-a10a13dc="" data-v-ab1ca44a="" font-size:="" pt="" style="box-sizing: inherit\; align-items: inherit\; position: relative\; width: 507.328px\; color: rgb(65\, 99\, 108)\; font-family: ">\n<div --inline-link-color:="" class="text-component &#128218\;18-0-7uGevg &#128218\;18-0-7TxSrO w-text--rendered" data-v-0dc2c114="" data-v-54fd6eb4="" data-v-a10a13dc="" data-v-ab1ca44a="" playfair="" style="box-sizing: inherit\; --min-resolution: 320\; --min-font-size: var(--mobile-base-font-size)\; --min-font-size-scale: var(--mobile-font-size-scale)\; --min-fs--2: calc(var(--min-fs--1)/var(--min-font-size-scale))\; --min-fs--1: calc(var(--min-fs-0)/var(--min-font-size-scale))\; --min-fs-0: var(--min-font-size)\; --min-fs-1: calc(var(--min-fs-0)*var(--min-font-size-scale))\; --min-fs-2: calc(var(--min-fs-1)*var(--min-font-size-scale))\; --min-fs-3: calc(var(--min-fs-2)*var(--min-font-size-scale))\; --min-fs-4: calc(var(--min-fs-3)*var(--min-font-size-scale))\; --min-fs-5: calc(var(--min-fs-4)*var(--min-font-size-scale))\; --min-fs-6: calc(var(--min-fs-5)*var(--min-font-size-scale))\; --min-fs-7: calc(var(--min-fs-6)*var(--min-font-size-scale))\; --max-resolution: 1280\; --max-font-size: var(--min-font-size)\; --max-font-size-scale: calc(var(--min-font-size-scale) + 0.11)\; --max-fs--2: calc(var(--max-fs--1)/var(--max-font-size-scale))\; --max-fs--1: calc(var(--max-fs-0)/var(--max-font-size-scale))\; --max-fs-0: var(--max-font-size)\; --max-fs-1: calc(var(--max-fs-0)*var(--max-font-size-scale))\; --max-fs-2: calc(var(--max-fs-1)*var(--max-font-size-scale))\; --max-fs-3: calc(var(--max-fs-2)*var(--max-font-size-scale))\; --max-fs-4: calc(var(--max-fs-3)*var(--max-font-size-scale))\; --max-fs-5: calc(var(--max-fs-4)*var(--max-font-size-scale))\; --max-fs-6: calc(var(--max-fs-5)*var(--max-font-size-scale))\; --max-fs-7: calc(var(--max-fs-6)*var(--max-font-size-scale))\; --resolution-range: calc(var(--max-resolution) - var(--min-resolution))\; --resolution: 1200px\; --resolution-progress: calc(var(--resolution) - var(--min-resolution)*1px)\; --interpolate-by: calc(var(--resolution-progress)/var(--resolution-range))\; --range-fs--2: calc(var(--max-fs--2) - var(--min-fs--2))\; --range-fs--1: calc(var(--max-fs--1) - var(--min-fs--1))\; --range-fs-0: calc(var(--max-fs-0) - var(--min-fs-0))\; --range-fs-1: calc(var(--max-fs-1) - var(--min-fs-1))\; --range-fs-2: calc(var(--max-fs-2) - var(--min-fs-2))\; --range-fs-3: calc(var(--max-fs-3) - var(--min-fs-3))\; --range-fs-4: calc(var(--max-fs-4) - var(--min-fs-4))\; --range-fs-5: calc(var(--max-fs-5) - var(--min-fs-5))\; --range-fs-6: calc(var(--max-fs-6) - var(--min-fs-6))\; --range-fs-7: calc(var(--max-fs-7) - var(--min-fs-7))\; --fs--2: max(12px\,calc(var(--min-fs--2)*1px + var(--range-fs--2)*var(--interpolate-by)))\; --fs--1: max(14px\,calc(var(--min-fs--1)*1px + var(--range-fs--1)*var(--interpolate-by)))\; --fs-0: calc(var(--min-fs-0)*1px + var(--range-fs-0)*var(--interpolate-by))\; --fs-1: calc(var(--min-fs-1)*1px + var(--range-fs-1)*var(--interpolate-by))\; --fs-2: calc(var(--min-fs-2)*1px + var(--range-fs-2)*var(--interpolate-by))\; --fs-3: calc(var(--min-fs-3)*1px + var(--range-fs-3)*var(--interpolate-by))\; --fs-4: calc(var(--min-fs-4)*1px + var(--range-fs-4)*var(--interpolate-by))\; --fs-5: calc(var(--min-fs-5)*1px + var(--range-fs-5)*var(--interpolate-by))\; --fs-6: calc(var(--min-fs-6)*1px + var(--range-fs-6)*var(--interpolate-by))\; --fs-7: calc(var(--min-fs-7)*1px + var(--range-fs-7)*var(--interpolate-by))\; --line-height: 1.5\; --line-height-scale: 0.95\; --lh--2: calc(var(--lh--1)/var(--line-height-scale))\; --lh--1: calc(var(--lh-0)/var(--line-height-scale))\; --lh-0: var(--line-height)\; --lh-1: calc(var(--lh-0)*var(--line-height-scale))\; --lh-2: calc(var(--lh-1)*var(--line-height-scale))\; --lh-3: calc(var(--lh-2)*var(--line-height-scale))\; --lh-4: calc(var(--lh-3)*var(--line-height-scale))\; --lh-5: calc(var(--lh-4)*var(--line-height-scale))\; --lh-6: calc(var(--lh-5)*var(--line-height-scale))\; --lh-7: calc(var(--lh-6)*var(--line-height-scale))\; margin: 0px\; overflow-wrap: anywhere\; word-break: break-word\; font-size: var(--fs-3)\; line-height: var(--lh-3)\; --mobile-base-font-size: 16\; --mobile-font-size-scale: 1.15\; font-family: ">\n<h2 style="box-sizing: inherit\; margin: 0px\; padding: 0px\; font-size: inherit\; color: inherit\; font-family: inherit\; font-weight: inherit\;"><span style="font-size:14px\;">The Mac &amp\; Cheese Throwdown 23!</span></h2>\n</div>\n</div>\n\n<div background-color:="" class="w-wrapper" data-v-a10a13dc="" data-v-ab1ca44a="" font-size:="" pt="" style="box-sizing: inherit\; align-items: inherit\; position: relative\; width: 507.328px\; color: rgb(65\, 99\, 108)\; font-family: ">\n<div class="text-component &#128218\;18-0-7uGevg &#128218\;18-0-7W7uVy w-text--rendered" data-v-0dc2c114="" data-v-54fd6eb4="" data-v-a10a13dc="" data-v-ab1ca44a="" style="box-sizing: inherit\; --min-resolution: 320\; --min-font-size: var(--mobile-base-font-size)\; --min-font-size-scale: var(--mobile-font-size-scale)\; --min-fs--2: calc(var(--min-fs--1)/var(--min-font-size-scale))\; --min-fs--1: calc(var(--min-fs-0)/var(--min-font-size-scale))\; --min-fs-0: var(--min-font-size)\; --min-fs-1: calc(var(--min-fs-0)*var(--min-font-size-scale))\; --min-fs-2: calc(var(--min-fs-1)*var(--min-font-size-scale))\; --min-fs-3: calc(var(--min-fs-2)*var(--min-font-size-scale))\; --min-fs-4: calc(var(--min-fs-3)*var(--min-font-size-scale))\; --min-fs-5: calc(var(--min-fs-4)*var(--min-font-size-scale))\; --min-fs-6: calc(var(--min-fs-5)*var(--min-font-size-scale))\; --min-fs-7: calc(var(--min-fs-6)*var(--min-font-size-scale))\; --max-resolution: 1280\; --max-font-size: var(--min-font-size)\; --max-font-size-scale: calc(var(--min-font-size-scale) + 0.11)\; --max-fs--2: calc(var(--max-fs--1)/var(--max-font-size-scale))\; --max-fs--1: calc(var(--max-fs-0)/var(--max-font-size-scale))\; --max-fs-0: var(--max-font-size)\; --max-fs-1: calc(var(--max-fs-0)*var(--max-font-size-scale))\; --max-fs-2: calc(var(--max-fs-1)*var(--max-font-size-scale))\; --max-fs-3: calc(var(--max-fs-2)*var(--max-font-size-scale))\; --max-fs-4: calc(var(--max-fs-3)*var(--max-font-size-scale))\; --max-fs-5: calc(var(--max-fs-4)*var(--max-font-size-scale))\; --max-fs-6: calc(var(--max-fs-5)*var(--max-font-size-scale))\; --max-fs-7: calc(var(--max-fs-6)*var(--max-font-size-scale))\; --resolution-range: calc(var(--max-resolution) - var(--min-resolution))\; --resolution: 1200px\; --resolution-progress: calc(var(--resolution) - var(--min-resolution)*1px)\; --interpolate-by: calc(var(--resolution-progress)/var(--resolution-range))\; --range-fs--2: calc(var(--max-fs--2) - var(--min-fs--2))\; --range-fs--1: calc(var(--max-fs--1) - var(--min-fs--1))\; --range-fs-0: calc(var(--max-fs-0) - var(--min-fs-0))\; --range-fs-1: calc(var(--max-fs-1) - var(--min-fs-1))\; --range-fs-2: calc(var(--max-fs-2) - var(--min-fs-2))\; --range-fs-3: calc(var(--max-fs-3) - var(--min-fs-3))\; --range-fs-4: calc(var(--max-fs-4) - var(--min-fs-4))\; --range-fs-5: calc(var(--max-fs-5) - var(--min-fs-5))\; --range-fs-6: calc(var(--max-fs-6) - var(--min-fs-6))\; --range-fs-7: calc(var(--max-fs-7) - var(--min-fs-7))\; --fs--2: max(12px\,calc(var(--min-fs--2)*1px + var(--range-fs--2)*var(--interpolate-by)))\; --fs--1: max(14px\,calc(var(--min-fs--1)*1px + var(--range-fs--1)*var(--interpolate-by)))\; --fs-0: calc(var(--min-fs-0)*1px + var(--range-fs-0)*var(--interpolate-by))\; --fs-1: calc(var(--min-fs-1)*1px + var(--range-fs-1)*var(--interpolate-by))\; --fs-2: calc(var(--min-fs-2)*1px + var(--range-fs-2)*var(--interpolate-by))\; --fs-3: calc(var(--min-fs-3)*1px + var(--range-fs-3)*var(--interpolate-by))\; --fs-4: calc(var(--min-fs-4)*1px + var(--range-fs-4)*var(--interpolate-by))\; --fs-5: calc(var(--min-fs-5)*1px + var(--range-fs-5)*var(--interpolate-by))\; --fs-6: calc(var(--min-fs-6)*1px + var(--range-fs-6)*var(--interpolate-by))\; --fs-7: calc(var(--min-fs-7)*1px + var(--range-fs-7)*var(--interpolate-by))\; --line-height: 1.5\; --line-height-scale: 0.95\; --lh--2: calc(var(--lh--1)/var(--line-height-scale))\; --lh--1: calc(var(--lh-0)/var(--line-height-scale))\; --lh-0: var(--line-height)\; --lh-1: calc(var(--lh-0)*var(--line-height-scale))\; --lh-2: calc(var(--lh-1)*var(--line-height-scale))\; --lh-3: calc(var(--lh-2)*var(--line-height-scale))\; --lh-4: calc(var(--lh-3)*var(--line-height-scale))\; --lh-5: calc(var(--lh-4)*var(--line-height-scale))\; --lh-6: calc(var(--lh-5)*var(--line-height-scale))\; --lh-7: calc(var(--lh-6)*var(--line-height-scale))\; margin: 0px\; overflow-wrap: anywhere\; word-break: break-word\; font-size: var(--fs-0)\; line-height: var(--lh-0)\; --mobile-base-font-size: 16\; --mobile-font-size-scale: 1.15\; --inline-link-color: var(--color-black)\;">\n<p style="box-sizing: inherit\; margin: 0px\; padding: 0px\;"><span style="font-size:14px\;">What&#39\;s better than a bowl of mac &amp\; cheese? Deciding who has the best\, of course! Then come out to the cheesiest and gooiest place around Tomball!<br style="box-sizing: inherit\;" />\n<br style="box-sizing: inherit\;" />\nJoin us for the mac &amp\; cheese throwdown\, a showdown\, a competition sure to have you asking for more! Ready to try some of the most delicious mac &amp\; cheese in the land? Then you do not want to miss out. You&#39\;ll be able to try up to 20 unique mac &amp\; cheeses and then YOU get to help decide who really has the best! There will also be a vendor exhibition so be sure to stop by to get your Mac on and support small businesses.<br style="box-sizing: inherit\;" />\n<br style="box-sizing: inherit\;" />\nWhen: Saturday July 29th\, 2023 from 12:00pm to 4:00pm<br style="box-sizing: inherit\;" />\nWhere: The Estates at Pecan Park in Tomball\, Texas<br style="box-sizing: inherit\;" />\n<span style="box-sizing: inherit\;">22633 Park Rd\, Tomball\, TX 77377</span><br style="box-sizing: inherit\;" />\n<br style="box-sizing: inherit\;" />\nTickets are on sale now!<br style="box-sizing: inherit\;" />\nThe deadline for ticket purchases is Saturday\, 7/22/23.<br />\n<br />\nOpportunities!<br />\nSponsor<br />\nVendor<br />\nEnter competition and win prize money!<br />\nAttend and enjoy<br />\n<br />\nAll information regarding the above can be found at</span><br />\n<a href="https://www.frannysbartending.com/events">https://www.frannysbartending.com/events</a><br />\n&nbsp\;</p>\n</div>\n</div>\n
LOCATION:The Estates at Pecan Park in Tomball\, Texas 22633 Park Rd\, Tomball\, TX 77377
UID:e.155.37997
SEQUENCE:3
DTSTAMP:20260420T061810Z
URL:https://business.tomballchamber.org/events/details/the-mac-cheese-throwdown-23-37997
END:VEVENT

END:VCALENDAR
