BEGIN:VCALENDAR
VERSION:2.0
PRODID:-//ChamberMaster//Event Calendar 2.0//EN
METHOD:PUBLISH
X-PUBLISHED-TTL:P3D
REFRESH-INTERVAL:P3D
CALSCALE:GREGORIAN
BEGIN:VEVENT
DTSTART;VALUE=DATE:20070212
DTEND;VALUE=DATE:20070217
TRANSP:TRANSPARENT
X-MICROSOFT-CDO-ALLDAYEVENT:TRUE
SUMMARY:Texas Orthopaedic & Sports Medicine Opens Woodlands Location
DESCRIPTION:
X-ALT-DESC;FMTTYPE=text/html:
LOCATION:9200 Pinecroft Ste 260 The Woodlands TX
UID:e.155.1386
SEQUENCE:3
DTSTAMP:20260422T135811Z
URL:https://business.tomballchamber.org/events/details/texas-orthopaedic-sports-medicine-opens-woodlands-location-02-12-2007-1386
END:VEVENT

END:VCALENDAR
