BEGIN:VCALENDAR
VERSION:2.0
PRODID:-//ChamberMaster//Event Calendar 2.0//EN
METHOD:PUBLISH
X-PUBLISHED-TTL:P3D
REFRESH-INTERVAL:P3D
CALSCALE:GREGORIAN
BEGIN:VEVENT
DTSTART:20070602T050000Z
DTEND:20070613T050000Z
X-MICROSOFT-CDO-ALLDAYEVENT:FALSE
SUMMARY:Texas Master Chorale Italy Tour
DESCRIPTION:
X-ALT-DESC;FMTTYPE=text/html:
LOCATION:
UID:e.155.11
SEQUENCE:3
DTSTAMP:20260422T091458Z
URL:https://business.tomballchamber.org/events/details/texas-master-chorale-italy-tour-06-02-2007-11
END:VEVENT

END:VCALENDAR
