BEGIN:VCALENDAR
VERSION:2.0
PRODID:-//ChamberMaster//Event Calendar 2.0//EN
METHOD:PUBLISH
X-PUBLISHED-TTL:P3D
REFRESH-INTERVAL:P3D
CALSCALE:GREGORIAN
BEGIN:VEVENT
DTSTART:20080425T233000Z
DTEND:20080426T040000Z
X-MICROSOFT-CDO-ALLDAYEVENT:FALSE
SUMMARY:Texas Master Chorale Fundraiser
DESCRIPTION:Texas Master Chorale Musical Money Madness\nSilent Auction\, Dinner\, Live Auction\, Games\, Entertainment by Chorale members
X-ALT-DESC;FMTTYPE=text/html:Texas Master Chorale Musical Money Madness\nSilent Auction\, Dinner\, Live Auction\, Games\, Entertainment by Chorale members
LOCATION:Shirley Acres\, 217 Woerner Road\, Houston\, TX 77090
UID:e.155.2423
SEQUENCE:3
DTSTAMP:20260421T145507Z
URL:https://business.tomballchamber.org/events/details/texas-master-chorale-fundraiser-04-25-2008-2423
END:VEVENT

END:VCALENDAR
