BEGIN:VCALENDAR
VERSION:2.0
PRODID:-//ChamberMaster//Event Calendar 2.0//EN
METHOD:PUBLISH
X-PUBLISHED-TTL:P3D
REFRESH-INTERVAL:P3D
CALSCALE:GREGORIAN
BEGIN:VEVENT
DTSTART:20080422T003000Z
DTEND:20080422T020000Z
X-MICROSOFT-CDO-ALLDAYEVENT:FALSE
SUMMARY:Texas Master Chorale
DESCRIPTION:Spring Concert - Lux Aeterna by Morten Lauridsen\nHaydn Little OrganMass\, Mozart Regina Coeli
X-ALT-DESC;FMTTYPE=text/html:Spring Concert - Lux Aeterna by Morten Lauridsen\nHaydn Little OrganMass\, Mozart Regina Coeli
LOCATION:The Centrum\, Cypress Creek Christian Church\, Cypresswood Dr.
UID:e.155.2424
SEQUENCE:3
DTSTAMP:20260421T145501Z
URL:https://business.tomballchamber.org/events/details/texas-master-chorale-04-21-2008-2424
END:VEVENT

END:VCALENDAR
