BEGIN:VCALENDAR
VERSION:2.0
PRODID:-//ChamberMaster//Event Calendar 2.0//EN
METHOD:PUBLISH
X-PUBLISHED-TTL:P3D
REFRESH-INTERVAL:P3D
CALSCALE:GREGORIAN
BEGIN:VEVENT
DTSTART;VALUE=DATE:20071026
DTEND;VALUE=DATE:20071028
TRANSP:TRANSPARENT
X-MICROSOFT-CDO-ALLDAYEVENT:TRUE
SUMMARY:Texas Forest EXPO & INSTITUTE
DESCRIPTION:Free to public. Two days of exhibits and classes. For landowners\, property owners and homeowners who wish to gain more knowledge on maintaining or improving the health of their trees\, landscapes and/or farms/ranchettes. Gain insightful information through live demonstrations\, informative booths and short presentation. There will even be a children's indoor learning center.
X-ALT-DESC;FMTTYPE=text/html:<div>Free to public. Two days of exhibits and classes. For landowners\, property owners and homeowners who wish to gain more knowledge on maintaining or improving the health of their trees\, landscapes and/or farms/ranchettes. Gain insightful information through live demonstrations\, informative booths and short presentation. There will even be a children&rsquo\;s indoor learning center.</div>
LOCATION:Lone Star Convention Center Conroe\, TX (across from the airport and rodeo arena)
UID:e.155.2328
SEQUENCE:3
DTSTAMP:20260422T011336Z
URL:https://business.tomballchamber.org/events/details/texas-forest-expo-institute-10-26-2007-2328
END:VEVENT

END:VCALENDAR
