BEGIN:VCALENDAR
VERSION:2.0
PRODID:-//ChamberMaster//Event Calendar 2.0//EN
METHOD:PUBLISH
X-PUBLISHED-TTL:P3D
REFRESH-INTERVAL:P3D
CALSCALE:GREGORIAN
BEGIN:VEVENT
DTSTART;VALUE=DATE:20080927
DTEND;VALUE=DATE:20080929
TRANSP:TRANSPARENT
X-MICROSOFT-CDO-ALLDAYEVENT:TRUE
SUMMARY:Texas Forest EXPO
DESCRIPTION:Texas Forest EXPO 2008: Building forest one backyard at a time!\n\nThis year's EXPO will draw landowners from Southeast Texas and beyond\, who like you\, are interested in learning about how to conserve\, enhance and protect their property.\n\nYou have questions. We have answers. And it's all FREE!\n\nCome and discover the latest topics in land management\, wildfire prevention and preparedness\, generating alternate income from your land\, landscape design\, pest and invasive species management\, timber and estate taxation\, wildlife habitat management\, tree maintenance and more.  Exhibitors and vendors will be there to provide products\, solutions\, and services to help you manage your property.\n\nFor the "Little Texans" there is a children's exploration room.
X-ALT-DESC;FMTTYPE=text/html:Texas Forest EXPO 2008: Building forest one backyard at a time!\n\nThis year's EXPO will draw landowners from Southeast Texas and beyond\, who like you\, are interested in learning about how to conserve\, enhance and protect their property.\n\nYou have questions. We have answers. And it's all FREE!\n\nCome and discover the latest topics in land management\, wildfire prevention and preparedness\, generating alternate income from your land\, landscape design\, pest and invasive species management\, timber and estate taxation\, wildlife habitat management\, tree maintenance and more.  Exhibitors and vendors will be there to provide products\, solutions\, and services to help you manage your property.\n\nFor the "Little Texans" there is a children's exploration room.
LOCATION:Lone Star Convention Center 9055 FM 1484 Conroe\, TX Just north of Loop 336
UID:e.155.2590
SEQUENCE:3
DTSTAMP:20260421T083522Z
URL:https://business.tomballchamber.org/events/details/texas-forest-expo-09-27-2008-2590
END:VEVENT

END:VCALENDAR
