BEGIN:VCALENDAR
VERSION:2.0
PRODID:-//ChamberMaster//Event Calendar 2.0//EN
METHOD:PUBLISH
X-PUBLISHED-TTL:P3D
REFRESH-INTERVAL:P3D
CALSCALE:GREGORIAN
BEGIN:VEVENT
DTSTART;VALUE=DATE:20220514
DTEND;VALUE=DATE:20220515
TRANSP:TRANSPARENT
X-MICROSOFT-CDO-ALLDAYEVENT:TRUE
SUMMARY:Texas Deuce Days
DESCRIPTION:Three Day Event - Texas Deuce Days!\n\n\n\nOur three day car enthusiasts experience promotes traditional family-oriented street meets\, rallies\, and car shows\, supports local businesses\, and raise awareness and funding for Texas First Responders and all branches of the U.S. Armed Forces\, their families and veterans. \n\n\n\nCheck our the three day calendar of events here: https://www.texasdeucedays.com/ \n\n\n\nIf you want to enter your car into the event/competition\, please visit website for details and to register.
X-ALT-DESC;FMTTYPE=text/html:Three Day Event - Texas Deuce Days!<br />\n<br />\nOur three day car enthusiasts experience promotes traditional family-oriented street meets\, rallies\, and car shows\, supports local businesses\, and raise awareness and funding for Texas First Responders and all branches of the U.S. Armed Forces\, their families and veterans.&nbsp\;<br />\n<br />\nCheck our the three day calendar of events here:&nbsp\;https://www.texasdeucedays.com/&nbsp\;<br />\n<br />\nIf you want to enter your car into the event/competition\, please visit website for details and to register.&nbsp\;
LOCATION:Various locations Check Website
UID:e.155.35977
SEQUENCE:3
DTSTAMP:20260421T202644Z
URL:https://business.tomballchamber.org/events/details/texas-deuce-days-05-14-2022-35977
END:VEVENT

END:VCALENDAR
