BEGIN:VCALENDAR
VERSION:2.0
PRODID:-//ChamberMaster//Event Calendar 2.0//EN
METHOD:PUBLISH
X-PUBLISHED-TTL:P3D
REFRESH-INTERVAL:P3D
CALSCALE:GREGORIAN
BEGIN:VEVENT
DTSTART;VALUE=DATE:20070420
DTEND;VALUE=DATE:20070423
TRANSP:TRANSPARENT
X-MICROSOFT-CDO-ALLDAYEVENT:TRUE
SUMMARY:Texas Crawfish & Music Festival
DESCRIPTION:Texas Crawfish & Music Festival\nOld Town Spring\nApril 20 - 22 & April 27 -29
X-ALT-DESC;FMTTYPE=text/html:Texas Crawfish &amp\; Music Festival<br />Old Town Spring<br />April 20 - 22 &amp\; April 27 -29
LOCATION:Old Town Spring
UID:e.155.2205
SEQUENCE:3
DTSTAMP:20260422T104853Z
URL:https://business.tomballchamber.org/events/details/texas-crawfish-music-festival-04-20-2007-2205
END:VEVENT

END:VCALENDAR
