BEGIN:VCALENDAR
VERSION:2.0
PRODID:-//ChamberMaster//Event Calendar 2.0//EN
METHOD:PUBLISH
X-PUBLISHED-TTL:P3D
REFRESH-INTERVAL:P3D
CALSCALE:GREGORIAN
BEGIN:VEVENT
DTSTART:20070522T213000Z
DTEND:20070522T223000Z
X-MICROSOFT-CDO-ALLDAYEVENT:FALSE
SUMMARY:Teen Scrapbooking
DESCRIPTION:Teens make and take a scrapbook page!  No materials required.  Please pre-register in-person at the library or by calling (832) 559-4213.
X-ALT-DESC;FMTTYPE=text/html:Teens make and take a scrapbook page!  No materials required.  Please pre-register in-person at the library or by calling (832) 559-4213.  
LOCATION:Second floor Conference Room of the Tomball College & Community Library\, 30555 Tomball Pkwy.
UID:e.155.2210
SEQUENCE:3
DTSTAMP:20260422T104801Z
URL:https://business.tomballchamber.org/events/details/teen-scrapbooking-05-22-2007-2210
END:VEVENT

END:VCALENDAR
