BEGIN:VCALENDAR
VERSION:2.0
PRODID:-//ChamberMaster//Event Calendar 2.0//EN
METHOD:PUBLISH
X-PUBLISHED-TTL:P3D
REFRESH-INTERVAL:P3D
CALSCALE:GREGORIAN
BEGIN:VEVENT
DTSTART:20070618T203000Z
DTEND:20070618T213000Z
X-MICROSOFT-CDO-ALLDAYEVENT:FALSE
SUMMARY:Teen Fear Factor
DESCRIPTION:How much gross food can your stomach handle?  Come to Teen Fear Factor at the Tomball College & Community Library.  Prize awarded to the winner!
X-ALT-DESC;FMTTYPE=text/html:How much gross food can your stomach handle?  Come to Teen Fear Factor at the Tomball College & Community Library.  Prize awarded to the winner!
LOCATION:Tomball College & Community Library First floor Meeting Room
UID:e.155.2246
SEQUENCE:3
DTSTAMP:20260422T075227Z
URL:https://business.tomballchamber.org/events/details/teen-fear-factor-06-18-2007-2246
END:VEVENT

END:VCALENDAR
