BEGIN:VCALENDAR
VERSION:2.0
PRODID:-//ChamberMaster//Event Calendar 2.0//EN
METHOD:PUBLISH
X-PUBLISHED-TTL:P3D
REFRESH-INTERVAL:P3D
CALSCALE:GREGORIAN
BEGIN:VEVENT
DTSTART:20070424T203000Z
DTEND:20070424T213000Z
X-MICROSOFT-CDO-ALLDAYEVENT:FALSE
SUMMARY:Teen Beading
DESCRIPTION:In this craft activity for teens\, each participant will make and take either a bracelet or a necklace.  Open to all skill levels.  No materials required.  Please pre-register in-person at the Tomball library or by calling (832) 559-4213\, as space and supplies are limited.
X-ALT-DESC;FMTTYPE=text/html:In this craft activity for teens\, each participant will make and take either a bracelet or a necklace.  Open to all skill levels.  No materials required.  Please pre-register in-person at the Tomball library or by calling (832) 559-4213\, as space and supplies are limited.  
LOCATION:Tomball College & Community Library 30555 Tomball Pkwy. First floor Meeting Room
UID:e.155.1670
SEQUENCE:3
DTSTAMP:20260422T104645Z
URL:https://business.tomballchamber.org/events/details/teen-beading-04-24-2007-1670
END:VEVENT

END:VCALENDAR
