BEGIN:VCALENDAR
VERSION:2.0
PRODID:-//ChamberMaster//Event Calendar 2.0//EN
METHOD:PUBLISH
X-PUBLISHED-TTL:P3D
REFRESH-INTERVAL:P3D
CALSCALE:GREGORIAN
BEGIN:VEVENT
DTSTART:20070908T130000Z
DTEND:20070908T160000Z
X-MICROSOFT-CDO-ALLDAYEVENT:FALSE
SUMMARY:Teddy Bear Clinic
DESCRIPTION:Injured Teddy Bear?  Bring you favorite toy stuffed animal as the "patient" to Tomball Regional Minor Care center in Magnolia as children are painlessly introduced to emergency care.  They can experience a quick response with x-rays\, bandages and a prescription of M&Ms  A doctor will prescribe appropriate treatment for each stuffed animal from stitches to surgery.  Emergency services\, such as the Magnolia Fire Department and Montgomery County Hospital District\, will also be on site to answer any questions children may have for their Teddy Bear.
X-ALT-DESC;FMTTYPE=text/html:<p>Injured Teddy Bear?&nbsp\; Bring you favorite toy stuffed animal as the &quot\;patient&quot\; to Tomball Regional Minor Care center in Magnolia as children are painlessly introduced to emergency care.&nbsp\; They can experience a quick response with x-rays\, bandages and a prescription of M&amp\;Ms&nbsp\; A doctor will prescribe appropriate treatment for each stuffed animal from stitches to surgery.&nbsp\; Emergency services\, such as the Magnolia Fire Department and Montgomery County Hospital District\, will also be on site to answer any questions children may have for their Teddy Bear.</p>
LOCATION:The corner of FM 1488 and FM 2978
UID:e.155.2326
SEQUENCE:3
DTSTAMP:20260422T025708Z
URL:https://business.tomballchamber.org/events/details/teddy-bear-clinic-09-08-2007-2326
END:VEVENT

END:VCALENDAR
