BEGIN:VCALENDAR
VERSION:2.0
PRODID:-//ChamberMaster//Event Calendar 2.0//EN
METHOD:PUBLISH
X-PUBLISHED-TTL:P3D
REFRESH-INTERVAL:P3D
CALSCALE:GREGORIAN
BEGIN:VEVENT
DTSTART:20070901T150000Z
DTEND:20070901T190000Z
X-MICROSOFT-CDO-ALLDAYEVENT:FALSE
SUMMARY:Teddy Bear Check-Up at Emergency Health Centre At Willowbrook
DESCRIPTION:Join us at our Grand Opening Events for a chance to win great prizes\, including a Disney World Family Vacation\, iPod Nanos\, Playstation PSPs\, and Webkinz toys! \n\nAppearance by "Bearemy" from Build-A-Bear Workshop! The ER is finally fun! Your child?s teddy bear check-up includes a "bear physical" as well as "X-rays" and everything is documented in an official medical record that your loveable stuffed friend can bring home! Plus\, enter to win a Bear Buck$ gift card for the new Build-A-Bear Workshop in the Willowbrook Mall. EmergencyHealthCentre.com
X-ALT-DESC;FMTTYPE=text/html:Join us at our Grand Opening Events for a chance to win great prizes\, including a Disney World Family Vacation\, iPod Nanos\, Playstation PSPs\, and Webkinz toys! \n\nAppearance by "Bearemy" from Build-A-Bear Workshop! The ER is finally fun! Your child?s teddy bear check-up includes a "bear physical" as well as "X-rays" and everything is documented in an official medical record that your loveable stuffed friend can bring home! Plus\, enter to win a Bear Buck$ gift card for the new Build-A-Bear Workshop in the Willowbrook Mall. EmergencyHealthCentre.com
LOCATION:22475 Tomball Parkway Houston\, Texas 77070 (Between Louetta and Spring Cypress Rd)
UID:e.155.2311
SEQUENCE:3
DTSTAMP:20260422T030105Z
URL:https://business.tomballchamber.org/events/details/teddy-bear-check-up-at-emergency-health-centre-at-willowbrook-09-01-2007-2311
END:VEVENT

END:VCALENDAR
