BEGIN:VCALENDAR
VERSION:2.0
PRODID:-//ChamberMaster//Event Calendar 2.0//EN
METHOD:PUBLISH
X-PUBLISHED-TTL:P3D
REFRESH-INTERVAL:P3D
CALSCALE:GREGORIAN
BEGIN:VEVENT
DTSTART:20080415T163000Z
DTEND:20080415T183000Z
X-MICROSOFT-CDO-ALLDAYEVENT:FALSE
SUMMARY:TBPW Membership Luncheon
DESCRIPTION:This is our once a year\, special Membership Luncheon. Guests are invited to attend and enjoy lunch for free. R.S.V.P. at www.tbpw.org by Friday\, April 11\, 2008 to guarantee seating.
X-ALT-DESC;FMTTYPE=text/html:This is our once a year\, special Membership Luncheon. Guests are invited to attend and enjoy lunch for free. R.S.V.P. at www.tbpw.org by Friday\, April 11\, 2008 to guarantee seating. 
LOCATION:Amegy Bank in Tomball - 2nd Floor
UID:e.155.2475
SEQUENCE:3
DTSTAMP:20260421T145652Z
URL:https://business.tomballchamber.org/events/details/tbpw-membership-luncheon-04-15-2008-2475
END:VEVENT

END:VCALENDAR
